
BEGIN:VCALENDAR
VERSION:2.0
PRODID:-//Harpoon - ECPv6.15.20//NONSGML v1.0//EN
CALSCALE:GREGORIAN
METHOD:PUBLISH
X-WR-CALNAME:Harpoon
X-ORIGINAL-URL:https://harpoonbrewery.com
X-WR-CALDESC:Events for Harpoon
REFRESH-INTERVAL;VALUE=DURATION:PT1H
X-Robots-Tag:noindex
X-PUBLISHED-TTL:PT1H
BEGIN:VTIMEZONE
TZID:UTC
BEGIN:STANDARD
TZOFFSETFROM:+0000
TZOFFSETTO:+0000
TZNAME:UTC
DTSTART:20230101T000000
END:STANDARD
END:VTIMEZONE
BEGIN:VEVENT
DTSTART;TZID=UTC:20240602T103000
DTEND;TZID=UTC:20240602T120000
DTSTAMP:20260423T084729
CREATED:20240510T163406Z
LAST-MODIFIED:20240510T163406Z
UID:10003322-1717324200-1717329600@harpoonbrewery.com
SUMMARY:Hop into Yoga and Strength
DESCRIPTION:Join us for a fun and energizing 3 class series event where you can enjoy a yoga session\, strength session\, and a combination of the two this summer. \nThis in-person event will take place on \nSunday June 2nd – Strength Class \nSunday July 14th – Yoga Class \nSunday August 11th – Yoga x Strength \nAll starting at 10:30 AM in our Pickleball Social Club. \nGet ready to sweat\, stretch\, and sip on some refreshing beverages afterwards. Don’t miss out on this unique opportunity to combine fitness and fun at Harpoon Brewery! \n** Each ticket includes 1 beer token\, 1 B/Spoke class credit\, and a chance to enter into our raffle ** \nIf you attend all 3 classes you will be entered in to win our grand prize raffle at the end of the class series.
URL:https://harpoonbrewery.com/event/hop-into-yoga-and-strength/2024-06-02/
LOCATION:Harpoon Brewery\, 306 Northern Avenue\, Boston\, 02210\, United States
CATEGORIES:Boston
ATTACH;FMTTYPE=image/jpeg:https://harpoonbrewery.com/wp-content/uploads/2024/05/Hop-Into-Yoga-Strength.jpg
GEO:42.346915;-71.0365866
X-APPLE-STRUCTURED-LOCATION;VALUE=URI;X-ADDRESS=Harpoon Brewery 306 Northern Avenue Boston 02210 United States;X-APPLE-RADIUS=500;X-TITLE=306 Northern Avenue:geo:-71.0365866,42.346915
END:VEVENT
BEGIN:VEVENT
DTSTART;TZID=UTC:20240605T180000
DTEND;TZID=UTC:20240605T200000
DTSTAMP:20260423T084729
CREATED:20240523T173546Z
LAST-MODIFIED:20240523T173546Z
UID:10003332-1717610400-1717617600@harpoonbrewery.com
SUMMARY:Music Bingo: Divas and Disco
DESCRIPTION:Join us for June’s monthly themed music bingo! \nJune 5th from 6pm-8pm.
URL:https://harpoonbrewery.com/event/music-bingo-divas-and-disco/
CATEGORIES:Boston,Brewery Event
ATTACH;FMTTYPE=image/jpeg:https://harpoonbrewery.com/wp-content/uploads/2024/05/Divas-Disco-Music-Bingo-1.jpg
END:VEVENT
BEGIN:VEVENT
DTSTART;TZID=UTC:20240606T160000
DTEND;TZID=UTC:20240606T200000
DTSTAMP:20260423T084729
CREATED:20240520T211151Z
LAST-MODIFIED:20240520T211151Z
UID:10003328-1717689600-1717704000@harpoonbrewery.com
SUMMARY:Vuture Food Tent Popup
DESCRIPTION:Vuture Food is popping up at the Beer Hall on June 6th from 4pm-8pm. Come by for some of the best vegan food in the country!
URL:https://harpoonbrewery.com/event/vuture-food-tent-popup/
LOCATION:Harpoon Brewery\, 306 Northern Avenue\, Boston\, 02210\, United States
CATEGORIES:Boston,Brewery Event
ATTACH;FMTTYPE=image/png:https://harpoonbrewery.com/wp-content/uploads/2024/05/vuture-food-horizontal-.png
GEO:42.346915;-71.0365866
X-APPLE-STRUCTURED-LOCATION;VALUE=URI;X-ADDRESS=Harpoon Brewery 306 Northern Avenue Boston 02210 United States;X-APPLE-RADIUS=500;X-TITLE=306 Northern Avenue:geo:-71.0365866,42.346915
END:VEVENT
BEGIN:VEVENT
DTSTART;TZID=UTC:20240607T180000
DTEND;TZID=UTC:20240607T210000
DTSTAMP:20260423T084729
CREATED:20240217T020303Z
LAST-MODIFIED:20241214T000656Z
UID:10002164-1717783200-1717794000@harpoonbrewery.com
SUMMARY:Live Music Fridays
DESCRIPTION:Join us on Fridays inside the Beer Hall from 6PM – 9PM for live music with local artists! Come grab a beer and pretzel and listen to some music with us. \nThe schedule is as follows: \n3/15 – New Waves Duo \n3/22 – Joe Kryzeweski \n3/29 – New Waves Duo \n4/5 – Overserved Again \n4/12 – Charles A. Music \n4/19 – Ben Picard \n4/26 – New Waves Duo \n5/3 – Overserved Again \n5/10 – Bill McGoldrick \n5/17 – No live music due to Harpoonfest! \n5/24 – New Waves \n5/31 – Charles A. Music \n6/7 – Overserved Again \n6/14 – Bob Moon \n6/21 – Ben Picard \n6/28 – New Waves Duo \n7/5 – Overserved Again \n7/12 – Bill McGoldrick \n7/19 – Ben Picard \n7/26 – New Waves Duo \n8/2 – Overserved Again \n8/9 – Bill McGoldrick \n8/16 – Ben Picard \n8/23 – New Waves Duo \n8/30 – Charles A. Music
URL:https://harpoonbrewery.com/event/sweater-weather-sounds-live-music-fridays-2-2/2024-06-07/
LOCATION:Harpoon Brewery\, 306 Northern Avenue\, Boston\, 02210\, United States
CATEGORIES:Boston,Brewery Event
ATTACH;FMTTYPE=image/png:https://harpoonbrewery.com/wp-content/uploads/2024/02/General-Live-Music-Spring-Summer-Insta.png
GEO:42.346915;-71.0365866
X-APPLE-STRUCTURED-LOCATION;VALUE=URI;X-ADDRESS=Harpoon Brewery 306 Northern Avenue Boston 02210 United States;X-APPLE-RADIUS=500;X-TITLE=306 Northern Avenue:geo:-71.0365866,42.346915
END:VEVENT
BEGIN:VEVENT
DTSTART;TZID=UTC:20240612T180000
DTEND;TZID=UTC:20240612T200000
DTSTAMP:20260423T084729
CREATED:20240426T141205Z
LAST-MODIFIED:20250210T194041Z
UID:10002254-1718215200-1718222400@harpoonbrewery.com
SUMMARY:Music Bingo Wednesdays
DESCRIPTION:It’s back\, baby! Join us on Wednesdays from 6:00-8:00pm for Musical Bingo.\n\n\nFree To Play  Win Prizes  Fun For Everyone \n\n\nMusical Bingo Nation is an entertainment company that provides musical bingo events throughout Florida & New England. With over 50 music rounds\, you will always have a new one to try. We play the best music from the Billboard charts\, the most identifiable part of each song & the clean versions.\n\n\nThe goal is to consistently provide a fun\, friendly & exciting environment while playing great music for you to enjoy!\nIf you love music bring your friends & family for the best way to ever play Bingo!\n\n\nMusical Bingo is a game with the same concept as traditional bingo but instead of letters and numbers\, they are replaced with song titles & artists. Players compete to win based on their knowledge of music and the unpredictability of the game.\nMark your card when the DJ plays your song!\n\n\nHow To Play\n– Look over the songs on your card\n– The host will announce when the music round is starting\n– Your job is to listen to what songs are playing. If you see that\nsong on your card\, cross off the square\n– Fill out 5 in a row (vertical\, horizontal\, diagonal)\, and yell BINGO!!\n\n\nFor more information check out our website:\nwww.MusicalBingoNation.com
URL:https://harpoonbrewery.com/event/music-bingo-wednesdays-2-2/2024-06-12/
LOCATION:Harpoon Brewery\, 306 Northern Avenue\, Boston\, 02210\, United States
CATEGORIES:Boston,Brewery Event
ATTACH;FMTTYPE=image/png:https://harpoonbrewery.com/wp-content/uploads/2023/10/Music-Bingo-at-the-Brewery-1.png
GEO:42.346915;-71.0365866
X-APPLE-STRUCTURED-LOCATION;VALUE=URI;X-ADDRESS=Harpoon Brewery 306 Northern Avenue Boston 02210 United States;X-APPLE-RADIUS=500;X-TITLE=306 Northern Avenue:geo:-71.0365866,42.346915
END:VEVENT
BEGIN:VEVENT
DTSTART;TZID=UTC:20240613T170000
DTEND;TZID=UTC:20240613T200000
DTSTAMP:20260423T084729
CREATED:20240606T162309Z
LAST-MODIFIED:20240606T162309Z
UID:10003335-1718298000-1718308800@harpoonbrewery.com
SUMMARY:Gangnam Spice Food Truck
DESCRIPTION:
URL:https://harpoonbrewery.com/event/gangnam-spice-food-truck/
CATEGORIES:Boston,Brewery Event
ATTACH;FMTTYPE=image/png:https://harpoonbrewery.com/wp-content/uploads/2024/06/Gangnam-Spice-horizontal-2.png
END:VEVENT
BEGIN:VEVENT
DTSTART;TZID=UTC:20240614T180000
DTEND;TZID=UTC:20240614T210000
DTSTAMP:20260423T084729
CREATED:20240217T020303Z
LAST-MODIFIED:20241214T000656Z
UID:10002165-1718388000-1718398800@harpoonbrewery.com
SUMMARY:Live Music Fridays
DESCRIPTION:Join us on Fridays inside the Beer Hall from 6PM – 9PM for live music with local artists! Come grab a beer and pretzel and listen to some music with us. \nThe schedule is as follows: \n3/15 – New Waves Duo \n3/22 – Joe Kryzeweski \n3/29 – New Waves Duo \n4/5 – Overserved Again \n4/12 – Charles A. Music \n4/19 – Ben Picard \n4/26 – New Waves Duo \n5/3 – Overserved Again \n5/10 – Bill McGoldrick \n5/17 – No live music due to Harpoonfest! \n5/24 – New Waves \n5/31 – Charles A. Music \n6/7 – Overserved Again \n6/14 – Bob Moon \n6/21 – Ben Picard \n6/28 – New Waves Duo \n7/5 – Overserved Again \n7/12 – Bill McGoldrick \n7/19 – Ben Picard \n7/26 – New Waves Duo \n8/2 – Overserved Again \n8/9 – Bill McGoldrick \n8/16 – Ben Picard \n8/23 – New Waves Duo \n8/30 – Charles A. Music
URL:https://harpoonbrewery.com/event/sweater-weather-sounds-live-music-fridays-2-2/2024-06-14/
LOCATION:Harpoon Brewery\, 306 Northern Avenue\, Boston\, 02210\, United States
CATEGORIES:Boston,Brewery Event
ATTACH;FMTTYPE=image/png:https://harpoonbrewery.com/wp-content/uploads/2024/02/General-Live-Music-Spring-Summer-Insta.png
GEO:42.346915;-71.0365866
X-APPLE-STRUCTURED-LOCATION;VALUE=URI;X-ADDRESS=Harpoon Brewery 306 Northern Avenue Boston 02210 United States;X-APPLE-RADIUS=500;X-TITLE=306 Northern Avenue:geo:-71.0365866,42.346915
END:VEVENT
BEGIN:VEVENT
DTSTART;TZID=UTC:20240615T100000
DTEND;TZID=UTC:20240615T150000
DTSTAMP:20260423T084729
CREATED:20240514T135319Z
LAST-MODIFIED:20240514T135319Z
UID:10003325-1718445600-1718463600@harpoonbrewery.com
SUMMARY:Father's Day Pickleball Tournament
DESCRIPTION:Join us on Saturday\, June 15th between 10AM and 3PM at the Pickleball Social Club for our Father’s Day Pickleball Tournament! We will be running three different divisions with BIG champ prizes! This will be a bracket play event with a single elimination knockout round followed by the championship game. Teams are guaranteed at least 3 matches during the tournament! \nDivisions are as follows: \n\nJuicer Mixed Division (Males/Females)\nJuicer Men’s Division (Males Only)\nRec Open Division (Male Only & Mixed Teams)\n\nCome down to the Pickleball Social Club with family and friends to celebrate the HUB Sports Boston x Harpoon Father’s Day Weekend Block Party! Celebrate with Music\, Drinks\, and BIG champ prizes at this years Father’s Day Tournament.
URL:https://harpoonbrewery.com/event/fathers-day-pickleball-tournament/
LOCATION:Harpoon Brewery\, 306 Northern Avenue\, Boston\, 02210\, United States
CATEGORIES:Boston
ATTACH;FMTTYPE=image/png:https://harpoonbrewery.com/wp-content/uploads/2024/05/oLr-aWZ.png
GEO:42.346915;-71.0365866
X-APPLE-STRUCTURED-LOCATION;VALUE=URI;X-ADDRESS=Harpoon Brewery 306 Northern Avenue Boston 02210 United States;X-APPLE-RADIUS=500;X-TITLE=306 Northern Avenue:geo:-71.0365866,42.346915
END:VEVENT
BEGIN:VEVENT
DTSTART;TZID=UTC:20240615T130000
DTEND;TZID=UTC:20240615T180000
DTSTAMP:20260423T084729
CREATED:20240610T153532Z
LAST-MODIFIED:20240610T153632Z
UID:10003349-1718456400-1718474400@harpoonbrewery.com
SUMMARY:Lobster Day Pop-Up with Brownsville Butcher and Pantry
DESCRIPTION:Celebrate National Lobster Day with us! We could not be more excited to have our great friends from Brownsville Butcher and Pantry join us at the brewery! Fresh Pints\, Live Music\, Lobster Rolls and Wood fired Oysters. Don’t miss out on this delicious event! 
URL:https://harpoonbrewery.com/event/lobster-day-pop-up-with-brownsville-butcher-and-pantry/
LOCATION:Harpoon Brewery Taproom and Beer Garden\, 336 Ruth Carney Drive\, Windsor\, VT\, 05089\, United States
CATEGORIES:Brewery Event,Windsor
ATTACH;FMTTYPE=image/png:https://harpoonbrewery.com/wp-content/uploads/2024/06/Screenshot-2024-06-10-11.36.03-AM.png
GEO:43.5130201;-72.40388
X-APPLE-STRUCTURED-LOCATION;VALUE=URI;X-ADDRESS=Harpoon Brewery Taproom and Beer Garden 336 Ruth Carney Drive Windsor VT 05089 United States;X-APPLE-RADIUS=500;X-TITLE=336 Ruth Carney Drive:geo:-72.40388,43.5130201
END:VEVENT
BEGIN:VEVENT
DTSTART;TZID=UTC:20240616T110000
DTEND;TZID=UTC:20240616T200000
DTSTAMP:20260423T084730
CREATED:20240514T135440Z
LAST-MODIFIED:20240514T135440Z
UID:10003326-1718535600-1718568000@harpoonbrewery.com
SUMMARY:Father's Day Block Party
DESCRIPTION:Join us on Father’s Day at the Pickleball Social Club for our HUB Sports Boston x Harpoon Father’s Day Block Party! Celebrate with Live Music\, Cold Drinks\, The Sausage Guy\, and 1/2 off ALL Court Rentals! \n\n1/2 OFF Pickleball Court Rentals by HUB Sports 11am-8pm\nThe Sausage Guy 12pm-5pm\nBill McGoldrick Acoustic Duo Live Music 12:30pm-3:30pm.\nPickleball Prize pool 12pm-until supplies last\n\n*Court Rentals will be available for booking 2 weeks before the event
URL:https://harpoonbrewery.com/event/fathers-day-block-party/
LOCATION:Harpoon Brewery\, 306 Northern Avenue\, Boston\, 02210\, United States
CATEGORIES:Boston
ATTACH;FMTTYPE=image/png:https://harpoonbrewery.com/wp-content/uploads/2024/05/EmbO6HwT.png
GEO:42.346915;-71.0365866
X-APPLE-STRUCTURED-LOCATION;VALUE=URI;X-ADDRESS=Harpoon Brewery 306 Northern Avenue Boston 02210 United States;X-APPLE-RADIUS=500;X-TITLE=306 Northern Avenue:geo:-71.0365866,42.346915
END:VEVENT
BEGIN:VEVENT
DTSTART;TZID=UTC:20240616T120000
DTEND;TZID=UTC:20240616T160000
DTSTAMP:20260423T084730
CREATED:20240610T152718Z
LAST-MODIFIED:20240610T152718Z
UID:10003337-1718539200-1718553600@harpoonbrewery.com
SUMMARY:Father's Day at Harpoon
DESCRIPTION:Celebrate Dad in style this Father’s Day at our Brewery Market!\n Browse unique gifts and treats from talented artisans and vendors at our market from 12-4pm.\n Sip on our refreshing brews while enjoying live music from our friends at Red River North 4-6pm.\n Spend quality time with Dad for a game of Corn Hole.\nMark your calendars and treat Dad to a pint with us! Cheers to Dad! 
URL:https://harpoonbrewery.com/event/fathers-day-at-harpoon/
LOCATION:Harpoon Brewery Taproom and Beer Garden\, 336 Ruth Carney Drive\, Windsor\, VT\, 05089\, United States
CATEGORIES:Brewery Event,Windsor
ATTACH;FMTTYPE=image/jpeg:https://harpoonbrewery.com/wp-content/uploads/2022/05/IMG_1605.jpg
GEO:43.5130201;-72.40388
X-APPLE-STRUCTURED-LOCATION;VALUE=URI;X-ADDRESS=Harpoon Brewery Taproom and Beer Garden 336 Ruth Carney Drive Windsor VT 05089 United States;X-APPLE-RADIUS=500;X-TITLE=336 Ruth Carney Drive:geo:-72.40388,43.5130201
END:VEVENT
BEGIN:VEVENT
DTSTART;TZID=UTC:20240616T160000
DTEND;TZID=UTC:20240616T180000
DTSTAMP:20260423T084730
CREATED:20240610T153049Z
LAST-MODIFIED:20240610T153049Z
UID:10003048-1718553600-1718560800@harpoonbrewery.com
SUMMARY:Live Music Sunday with Red River North
DESCRIPTION:Sip on our refreshing brews while enjoying live music from our friends at Red River North 4-6pm. There’s no better way to spend Father’s Day!
URL:https://harpoonbrewery.com/event/live-music-sunday-fathers-day/
LOCATION:Harpoon Brewery Taproom and Beer Garden\, 336 Ruth Carney Drive\, Windsor\, VT\, 05089\, United States
CATEGORIES:Brewery Event,Windsor
ATTACH;FMTTYPE=image/jpeg:https://harpoonbrewery.com/wp-content/uploads/2024/03/red-river-north.jpg
GEO:43.5130201;-72.40388
X-APPLE-STRUCTURED-LOCATION;VALUE=URI;X-ADDRESS=Harpoon Brewery Taproom and Beer Garden 336 Ruth Carney Drive Windsor VT 05089 United States;X-APPLE-RADIUS=500;X-TITLE=336 Ruth Carney Drive:geo:-72.40388,43.5130201
END:VEVENT
BEGIN:VEVENT
DTSTART;TZID=UTC:20240619T180000
DTEND;TZID=UTC:20240619T200000
DTSTAMP:20260423T084730
CREATED:20240426T141205Z
LAST-MODIFIED:20250210T194041Z
UID:10002255-1718820000-1718827200@harpoonbrewery.com
SUMMARY:Music Bingo Wednesdays
DESCRIPTION:It’s back\, baby! Join us on Wednesdays from 6:00-8:00pm for Musical Bingo.\n\n\nFree To Play  Win Prizes  Fun For Everyone \n\n\nMusical Bingo Nation is an entertainment company that provides musical bingo events throughout Florida & New England. With over 50 music rounds\, you will always have a new one to try. We play the best music from the Billboard charts\, the most identifiable part of each song & the clean versions.\n\n\nThe goal is to consistently provide a fun\, friendly & exciting environment while playing great music for you to enjoy!\nIf you love music bring your friends & family for the best way to ever play Bingo!\n\n\nMusical Bingo is a game with the same concept as traditional bingo but instead of letters and numbers\, they are replaced with song titles & artists. Players compete to win based on their knowledge of music and the unpredictability of the game.\nMark your card when the DJ plays your song!\n\n\nHow To Play\n– Look over the songs on your card\n– The host will announce when the music round is starting\n– Your job is to listen to what songs are playing. If you see that\nsong on your card\, cross off the square\n– Fill out 5 in a row (vertical\, horizontal\, diagonal)\, and yell BINGO!!\n\n\nFor more information check out our website:\nwww.MusicalBingoNation.com
URL:https://harpoonbrewery.com/event/music-bingo-wednesdays-2-2/2024-06-19/
LOCATION:Harpoon Brewery\, 306 Northern Avenue\, Boston\, 02210\, United States
CATEGORIES:Boston,Brewery Event
ATTACH;FMTTYPE=image/png:https://harpoonbrewery.com/wp-content/uploads/2023/10/Music-Bingo-at-the-Brewery-1.png
GEO:42.346915;-71.0365866
X-APPLE-STRUCTURED-LOCATION;VALUE=URI;X-ADDRESS=Harpoon Brewery 306 Northern Avenue Boston 02210 United States;X-APPLE-RADIUS=500;X-TITLE=306 Northern Avenue:geo:-71.0365866,42.346915
END:VEVENT
BEGIN:VEVENT
DTSTART;TZID=UTC:20240621T180000
DTEND;TZID=UTC:20240621T210000
DTSTAMP:20260423T084730
CREATED:20240217T020303Z
LAST-MODIFIED:20241214T000656Z
UID:10002166-1718992800-1719003600@harpoonbrewery.com
SUMMARY:Live Music Fridays
DESCRIPTION:Join us on Fridays inside the Beer Hall from 6PM – 9PM for live music with local artists! Come grab a beer and pretzel and listen to some music with us. \nThe schedule is as follows: \n3/15 – New Waves Duo \n3/22 – Joe Kryzeweski \n3/29 – New Waves Duo \n4/5 – Overserved Again \n4/12 – Charles A. Music \n4/19 – Ben Picard \n4/26 – New Waves Duo \n5/3 – Overserved Again \n5/10 – Bill McGoldrick \n5/17 – No live music due to Harpoonfest! \n5/24 – New Waves \n5/31 – Charles A. Music \n6/7 – Overserved Again \n6/14 – Bob Moon \n6/21 – Ben Picard \n6/28 – New Waves Duo \n7/5 – Overserved Again \n7/12 – Bill McGoldrick \n7/19 – Ben Picard \n7/26 – New Waves Duo \n8/2 – Overserved Again \n8/9 – Bill McGoldrick \n8/16 – Ben Picard \n8/23 – New Waves Duo \n8/30 – Charles A. Music
URL:https://harpoonbrewery.com/event/sweater-weather-sounds-live-music-fridays-2-2/2024-06-21/
LOCATION:Harpoon Brewery\, 306 Northern Avenue\, Boston\, 02210\, United States
CATEGORIES:Boston,Brewery Event
ATTACH;FMTTYPE=image/png:https://harpoonbrewery.com/wp-content/uploads/2024/02/General-Live-Music-Spring-Summer-Insta.png
GEO:42.346915;-71.0365866
X-APPLE-STRUCTURED-LOCATION;VALUE=URI;X-ADDRESS=Harpoon Brewery 306 Northern Avenue Boston 02210 United States;X-APPLE-RADIUS=500;X-TITLE=306 Northern Avenue:geo:-71.0365866,42.346915
END:VEVENT
BEGIN:VEVENT
DTSTART;TZID=UTC:20240622T120000
DTEND;TZID=UTC:20240622T160000
DTSTAMP:20260423T084730
CREATED:20240610T152340Z
LAST-MODIFIED:20240610T152340Z
UID:10003336-1719057600-1719072000@harpoonbrewery.com
SUMMARY:Family Day at Harpoon
DESCRIPTION:Looking for a fun-filled day out with the kids? Join us at the Brewery for an exciting Family Day packed with activities everyone will love! \n\nWhat’s Happening:\n Children’s Book Reading: Join local author Jo Knowles in reading her book Ear Worm. Perfect for kids of all ages! Norwich Bookstore will be onsite to purchase and get your book signed by Jo! (Vermont Flannel is providing blankets for a perfect seat to hear the story!)\n Mini Golf: Challenge your family to a fun game of mini golf. Who will get the hole-in-one?\n Cookie Lovers Unite!  Munching Moose Bakeshop will have tasty cookies for all ages  A sweet delight for everyone!\n Arts & Crafts: RePlay Arts will have an activity and craft table – Let your creativity shine with fun arts and crafts activities. Take home a masterpiece!\n\nHow to Join (FREE!):\nMark your calendars for June 22nd!Bring your family and friends and a chair!Tag your friends and spread the word!\nTHIS IS A FREE EVENT!!! \nSee you there! Cheers! 
URL:https://harpoonbrewery.com/event/family-day-at-harpoon/
LOCATION:Harpoon Brewery Taproom and Beer Garden\, 336 Ruth Carney Drive\, Windsor\, VT\, 05089\, United States
CATEGORIES:Brewery Event,Windsor
ATTACH;FMTTYPE=image/png:https://harpoonbrewery.com/wp-content/uploads/2024/06/Screenshot-2024-06-10-11.20.21-AM.png
GEO:43.5130201;-72.40388
X-APPLE-STRUCTURED-LOCATION;VALUE=URI;X-ADDRESS=Harpoon Brewery Taproom and Beer Garden 336 Ruth Carney Drive Windsor VT 05089 United States;X-APPLE-RADIUS=500;X-TITLE=336 Ruth Carney Drive:geo:-72.40388,43.5130201
END:VEVENT
BEGIN:VEVENT
DTSTART;TZID=UTC:20240626T180000
DTEND;TZID=UTC:20240626T200000
DTSTAMP:20260423T084730
CREATED:20240426T141205Z
LAST-MODIFIED:20250210T194041Z
UID:10002256-1719424800-1719432000@harpoonbrewery.com
SUMMARY:Music Bingo Wednesdays
DESCRIPTION:It’s back\, baby! Join us on Wednesdays from 6:00-8:00pm for Musical Bingo.\n\n\nFree To Play  Win Prizes  Fun For Everyone \n\n\nMusical Bingo Nation is an entertainment company that provides musical bingo events throughout Florida & New England. With over 50 music rounds\, you will always have a new one to try. We play the best music from the Billboard charts\, the most identifiable part of each song & the clean versions.\n\n\nThe goal is to consistently provide a fun\, friendly & exciting environment while playing great music for you to enjoy!\nIf you love music bring your friends & family for the best way to ever play Bingo!\n\n\nMusical Bingo is a game with the same concept as traditional bingo but instead of letters and numbers\, they are replaced with song titles & artists. Players compete to win based on their knowledge of music and the unpredictability of the game.\nMark your card when the DJ plays your song!\n\n\nHow To Play\n– Look over the songs on your card\n– The host will announce when the music round is starting\n– Your job is to listen to what songs are playing. If you see that\nsong on your card\, cross off the square\n– Fill out 5 in a row (vertical\, horizontal\, diagonal)\, and yell BINGO!!\n\n\nFor more information check out our website:\nwww.MusicalBingoNation.com
URL:https://harpoonbrewery.com/event/music-bingo-wednesdays-2-2/2024-06-26/
LOCATION:Harpoon Brewery\, 306 Northern Avenue\, Boston\, 02210\, United States
CATEGORIES:Boston,Brewery Event
ATTACH;FMTTYPE=image/png:https://harpoonbrewery.com/wp-content/uploads/2023/10/Music-Bingo-at-the-Brewery-1.png
GEO:42.346915;-71.0365866
X-APPLE-STRUCTURED-LOCATION;VALUE=URI;X-ADDRESS=Harpoon Brewery 306 Northern Avenue Boston 02210 United States;X-APPLE-RADIUS=500;X-TITLE=306 Northern Avenue:geo:-71.0365866,42.346915
END:VEVENT
BEGIN:VEVENT
DTSTART;TZID=UTC:20240628T173000
DTEND;TZID=UTC:20240628T183000
DTSTAMP:20260423T084730
CREATED:20240610T184033Z
LAST-MODIFIED:20240610T184033Z
UID:10003350-1719595800-1719599400@harpoonbrewery.com
SUMMARY:Friday Night Fit Body Fitness
DESCRIPTION:Friday Night Fit Body Fitness is the place to be for a fun workout session! Join us at the Harpoon Brewery Taproom and Beer Garden for an evening of fitness and fun. Come on down\, bring a friend\, and let’s get fit together! \nJoin us on Friday 5:30PM – 6:30PM for a Fit Body Boot Camp workout! People of all fitness levels are invited to join this fun\, high-energy metabolic workout. Spots are limited\, so be sure to register ahead of time! \nGeneral Admission ($30 + Eventbrite Fee) Includes: \n\n30-minute Boot Camp session with West Lebanon Fit Body Boot Camp Coaches\nOne beverage of choice\n$10 donation to the Friends of Dartmouth Cancer Center
URL:https://harpoonbrewery.com/event/friday-night-fit-body-fitness/
LOCATION:Harpoon Brewery Taproom and Beer Garden\, 336 Ruth Carney Drive\, Windsor\, VT\, 05089\, United States
CATEGORIES:Brewery Event,Windsor
ATTACH;FMTTYPE=image/png:https://harpoonbrewery.com/wp-content/uploads/2024/06/Screenshot-2024-06-10-2.33.34-PM.png
GEO:43.5130201;-72.40388
X-APPLE-STRUCTURED-LOCATION;VALUE=URI;X-ADDRESS=Harpoon Brewery Taproom and Beer Garden 336 Ruth Carney Drive Windsor VT 05089 United States;X-APPLE-RADIUS=500;X-TITLE=336 Ruth Carney Drive:geo:-72.40388,43.5130201
END:VEVENT
BEGIN:VEVENT
DTSTART;TZID=UTC:20240628T180000
DTEND;TZID=UTC:20240628T210000
DTSTAMP:20260423T084730
CREATED:20240217T020303Z
LAST-MODIFIED:20241214T000656Z
UID:10002167-1719597600-1719608400@harpoonbrewery.com
SUMMARY:Live Music Fridays
DESCRIPTION:Join us on Fridays inside the Beer Hall from 6PM – 9PM for live music with local artists! Come grab a beer and pretzel and listen to some music with us. \nThe schedule is as follows: \n3/15 – New Waves Duo \n3/22 – Joe Kryzeweski \n3/29 – New Waves Duo \n4/5 – Overserved Again \n4/12 – Charles A. Music \n4/19 – Ben Picard \n4/26 – New Waves Duo \n5/3 – Overserved Again \n5/10 – Bill McGoldrick \n5/17 – No live music due to Harpoonfest! \n5/24 – New Waves \n5/31 – Charles A. Music \n6/7 – Overserved Again \n6/14 – Bob Moon \n6/21 – Ben Picard \n6/28 – New Waves Duo \n7/5 – Overserved Again \n7/12 – Bill McGoldrick \n7/19 – Ben Picard \n7/26 – New Waves Duo \n8/2 – Overserved Again \n8/9 – Bill McGoldrick \n8/16 – Ben Picard \n8/23 – New Waves Duo \n8/30 – Charles A. Music
URL:https://harpoonbrewery.com/event/sweater-weather-sounds-live-music-fridays-2-2/2024-06-28/
LOCATION:Harpoon Brewery\, 306 Northern Avenue\, Boston\, 02210\, United States
CATEGORIES:Boston,Brewery Event
ATTACH;FMTTYPE=image/png:https://harpoonbrewery.com/wp-content/uploads/2024/02/General-Live-Music-Spring-Summer-Insta.png
GEO:42.346915;-71.0365866
X-APPLE-STRUCTURED-LOCATION;VALUE=URI;X-ADDRESS=Harpoon Brewery 306 Northern Avenue Boston 02210 United States;X-APPLE-RADIUS=500;X-TITLE=306 Northern Avenue:geo:-71.0365866,42.346915
END:VEVENT
BEGIN:VEVENT
DTSTART;TZID=UTC:20240630T100000
DTEND;TZID=UTC:20240630T110000
DTSTAMP:20260423T084730
CREATED:20240610T190407Z
LAST-MODIFIED:20240610T190407Z
UID:10003351-1719741600-1719745200@harpoonbrewery.com
SUMMARY:Yoga with Amy
DESCRIPTION:Join us for Yoga with Amy at the Harpoon Brewery Taproom and Beer Garden! Get ready to stretch\, breathe\, and find your zen in this in-person event. Whether you’re a seasoned yogi or a beginner\, this class is perfect for all levels. So grab your mat and join us for a rejuvenating session of yoga. \nEach ticket includes a 45-minute yoga session (outside weather permitting!) and one post yoga beverage. \nDon’t miss out on this opportunity to relax\, unwind\, and enjoy some delicious brews afterwards. Namaste!
URL:https://harpoonbrewery.com/event/yoga-with-amy/
LOCATION:Harpoon Brewery Taproom and Beer Garden\, 336 Ruth Carney Drive\, Windsor\, VT\, 05089\, United States
CATEGORIES:Brewery Event,Windsor
ATTACH;FMTTYPE=image/jpeg:https://harpoonbrewery.com/wp-content/uploads/2024/06/yoga-WITH-AMY.jpg
GEO:43.5130201;-72.40388
X-APPLE-STRUCTURED-LOCATION;VALUE=URI;X-ADDRESS=Harpoon Brewery Taproom and Beer Garden 336 Ruth Carney Drive Windsor VT 05089 United States;X-APPLE-RADIUS=500;X-TITLE=336 Ruth Carney Drive:geo:-72.40388,43.5130201
END:VEVENT
END:VCALENDAR